BEGIN:VCALENDAR
VERSION:2.0
PRODID:-//Truett McConnell University - ECPv6.6.4.2//NONSGML v1.0//EN
CALSCALE:GREGORIAN
METHOD:PUBLISH
X-ORIGINAL-URL:https://truett.edu
X-WR-CALDESC:Events for Truett McConnell University
REFRESH-INTERVAL;VALUE=DURATION:PT1H
X-Robots-Tag:noindex
X-PUBLISHED-TTL:PT1H
BEGIN:VTIMEZONE
TZID:America/New_York
BEGIN:DAYLIGHT
TZOFFSETFROM:-0500
TZOFFSETTO:-0400
TZNAME:EDT
DTSTART:20260308T070000
END:DAYLIGHT
BEGIN:STANDARD
TZOFFSETFROM:-0400
TZOFFSETTO:-0500
TZNAME:EST
DTSTART:20261101T060000
END:STANDARD
END:VTIMEZONE
BEGIN:VEVENT
DTSTART;TZID=America/New_York:20260203T093000
DTEND;TZID=America/New_York:20260203T110000
DTSTAMP:20260419T091107
CREATED:20251027T164638Z
LAST-MODIFIED:20251027T164638Z
UID:23194-1770111000-1770116400@truett.edu
SUMMARY:Dr. Robby Foster\, Pastor Northside Baptist Church\, Valdosta; Chairman of TMU Board of Trustees
DESCRIPTION:
URL:https://truett.edu/event/dr-robby-foster-pastor-northside-baptist-church-valdosta-chairman-of-tmu-board-of-trustees/
CATEGORIES:Chapel
END:VEVENT
BEGIN:VEVENT
DTSTART;TZID=America/New_York:20260210T093000
DTEND;TZID=America/New_York:20260210T110000
DTSTAMP:20260419T091107
CREATED:20251027T164715Z
LAST-MODIFIED:20251028T120212Z
UID:23195-1770715800-1770721200@truett.edu
SUMMARY:Trent Cornwell\, Pastor of Vision Baptist Church\, Alpharetta GA
DESCRIPTION:
URL:https://truett.edu/event/trent-cornwell/
CATEGORIES:Chapel
END:VEVENT
BEGIN:VEVENT
DTSTART;TZID=America/New_York:20260217T093000
DTEND;TZID=America/New_York:20260217T110000
DTSTAMP:20260419T091107
CREATED:20251027T164914Z
LAST-MODIFIED:20251027T164914Z
UID:23196-1771320600-1771326000@truett.edu
SUMMARY:Genesis Lectures\, Dr. Kurt Wise
DESCRIPTION:
URL:https://truett.edu/event/genesis-lectures-dr-kurt-wise/
CATEGORIES:Chapel
END:VEVENT
BEGIN:VEVENT
DTSTART;TZID=America/New_York:20260224T093000
DTEND;TZID=America/New_York:20260224T110000
DTSTAMP:20260419T091107
CREATED:20251027T165002Z
LAST-MODIFIED:20251027T165002Z
UID:23197-1771925400-1771930800@truett.edu
SUMMARY:Dr. Steve Foster\, Evangelism Catalyst GBM
DESCRIPTION:
URL:https://truett.edu/event/dr-steve-foster-evangelism-catalyst-gbm/
CATEGORIES:Chapel
END:VEVENT
END:VCALENDAR