BEGIN:VCALENDAR
VERSION:2.0
PRODID:-//Truett McConnell University - ECPv6.6.4.2//NONSGML v1.0//EN
CALSCALE:GREGORIAN
METHOD:PUBLISH
X-ORIGINAL-URL:https://truett.edu
X-WR-CALDESC:Events for Truett McConnell University
REFRESH-INTERVAL;VALUE=DURATION:PT1H
X-Robots-Tag:noindex
X-PUBLISHED-TTL:PT1H
BEGIN:VTIMEZONE
TZID:America/New_York
BEGIN:DAYLIGHT
TZOFFSETFROM:-0500
TZOFFSETTO:-0400
TZNAME:EDT
DTSTART:20240310T070000
END:DAYLIGHT
BEGIN:STANDARD
TZOFFSETFROM:-0400
TZOFFSETTO:-0500
TZNAME:EST
DTSTART:20241103T060000
END:STANDARD
END:VTIMEZONE
BEGIN:VEVENT
DTSTART;TZID=America/New_York:20240312T093000
DTEND;TZID=America/New_York:20240312T110000
DTSTAMP:20260425T075705
CREATED:20231129T164803Z
LAST-MODIFIED:20240307T132138Z
UID:20410-1710235800-1710241200@truett.edu
SUMMARY:NO CHAPEL: FRIENDS & FAMILY WEEKEND
DESCRIPTION:
URL:https://truett.edu/event/no-chapel-presidents-weekend/
LOCATION:Truett McConnell University\, 100 Alumni Drive \, Cleveland\, GA\, 30528\, United States
CATEGORIES:Chapel,Community,Employees,Students
END:VEVENT
END:VCALENDAR