BEGIN:VCALENDAR
VERSION:2.0
PRODID:-//Truett McConnell University - ECPv6.6.4.2//NONSGML v1.0//EN
CALSCALE:GREGORIAN
METHOD:PUBLISH
X-ORIGINAL-URL:https://truett.edu
X-WR-CALDESC:Events for Truett McConnell University
REFRESH-INTERVAL;VALUE=DURATION:PT1H
X-Robots-Tag:noindex
X-PUBLISHED-TTL:PT1H
BEGIN:VTIMEZONE
TZID:America/New_York
BEGIN:DAYLIGHT
TZOFFSETFROM:-0500
TZOFFSETTO:-0400
TZNAME:EDT
DTSTART:20240310T070000
END:DAYLIGHT
BEGIN:STANDARD
TZOFFSETFROM:-0400
TZOFFSETTO:-0500
TZNAME:EST
DTSTART:20241103T060000
END:STANDARD
END:VTIMEZONE
BEGIN:VEVENT
DTSTART;VALUE=DATE:20240409
DTEND;VALUE=DATE:20240412
DTSTAMP:20260424T203339
CREATED:20240205T225350Z
LAST-MODIFIED:20240205T225350Z
UID:20576-1712620800-1712879999@truett.edu
SUMMARY:Fine Arts Week
DESCRIPTION:
URL:https://truett.edu/event/fine-arts-week/
LOCATION:Truett McConnell University\, 100 Alumni Drive \, Cleveland\, GA\, 30528\, United States
CATEGORIES:Fine Arts Week
ORGANIZER;CN="Melissa Deming":MAILTO:mdeming@truett.edu
END:VEVENT
END:VCALENDAR